BEGIN:VCALENDAR
VERSION:2.0
PRODID:-//WFO-OMA - ECPv6.2.9//NONSGML v1.0//EN
CALSCALE:GREGORIAN
METHOD:PUBLISH
X-WR-CALNAME:WFO-OMA
X-ORIGINAL-URL:https://www.wfo-oma.org
X-WR-CALDESC:Events for WFO-OMA
REFRESH-INTERVAL;VALUE=DURATION:PT1H
X-Robots-Tag:noindex
X-PUBLISHED-TTL:PT1H
BEGIN:VTIMEZONE
TZID:Europe/Rome
BEGIN:DAYLIGHT
TZOFFSETFROM:+0100
TZOFFSETTO:+0200
TZNAME:CEST
DTSTART:20230326T010000
END:DAYLIGHT
BEGIN:STANDARD
TZOFFSETFROM:+0200
TZOFFSETTO:+0100
TZNAME:CET
DTSTART:20231029T010000
END:STANDARD
END:VTIMEZONE
BEGIN:VEVENT
DTSTART;VALUE=DATE:20231130
DTEND;VALUE=DATE:20231213
DTSTAMP:20231219T193802
CREATED:20231110T115226Z
LAST-MODIFIED:20231110T115226Z
UID:18484-1701302400-1702425599@www.wfo-oma.org
SUMMARY:2023 UN Climate Change Conference (UNFCCC COP 28)
DESCRIPTION:The 2023 United Nations Climate Change Conference (COP 28) will take place from November 30 to December 12\, 2023\, in Dubai\, United Arab Emirates (UAE). The conference aims to build on previous achievements and pave the way for future ambition to effectively tackle the global challenge of climate change.  \nWorld leaders\, negotiators\, government representatives and other relevant stakeholders will gather in Dubai for a twelve-day dialogue on expediting efforts towards the successful implementation of the Paris Agreement within the UN Framework Convention on Climate Change.  \nA delegation of the World Farmers’ Organisation (WFO)\, led by President Arnold Puech d’Alissac and including over 70 farmer representatives from around the world\, will address the conference to bring a strong voice to the UNFCCC negotiations and the Food Systems and Climate Action Agenda of the COP 28 UAE Presidency.  \nThe delegation will get involved in several panels and roundtable sessions to reiterate that farmers hold an essential part of the solution to climate change\, and it is crucial to enable them to play their role in achieving the goals of the Paris Agreement.  \nJoin us on our journey to Dubai and advocate for #Farmers4Climate.  \nMore details about the events we will be participating in will follow soon.   \nYou can stay updated on WFO engagement and farmers’ participation in COP 28 by following @worldfarmersorg on X (formerly Twitter). Daily updates will be available. 
URL:https://www.wfo-oma.org/calendar-news/wfo-at-2023-un-climate-change-conference-unfccc-cop-28/
LOCATION:Expo City\, Dubai (UAE)\, Al Wasl Avenue\, Dubai\, United Arab Emirates
ATTACH;FMTTYPE=image/png:https://www.wfo-oma.org/wp-content/uploads/2023/11/event-news-wfo-at-cop28.png
END:VEVENT
END:VCALENDAR