BEGIN:VCALENDAR
VERSION:2.0
PRODID:-//WFO-OMA - ECPv6.2.9//NONSGML v1.0//EN
CALSCALE:GREGORIAN
METHOD:PUBLISH
X-WR-CALNAME:WFO-OMA
X-ORIGINAL-URL:https://www.wfo-oma.org
X-WR-CALDESC:Events for WFO-OMA
REFRESH-INTERVAL;VALUE=DURATION:PT1H
X-Robots-Tag:noindex
X-PUBLISHED-TTL:PT1H
BEGIN:VTIMEZONE
TZID:Europe/Rome
BEGIN:DAYLIGHT
TZOFFSETFROM:+0100
TZOFFSETTO:+0200
TZNAME:CEST
DTSTART:20190331T010000
END:DAYLIGHT
BEGIN:STANDARD
TZOFFSETFROM:+0200
TZOFFSETTO:+0100
TZNAME:CET
DTSTART:20191027T010000
END:STANDARD
END:VTIMEZONE
BEGIN:VEVENT
DTSTART;VALUE=DATE:20190603
DTEND;VALUE=DATE:20190606
DTSTAMP:20231221T151711
CREATED:20190514T135103Z
LAST-MODIFIED:20190515T124242Z
UID:3063-1559520000-1559779199@www.wfo-oma.org
SUMMARY:ISF World Seed Congress 2019
DESCRIPTION:The ISF World Seed Congress is the ISF flagship event which brings together the principal architects and decision makers of the global seed industry. \nThe ISF World Seed Congress 2019 will be held in Nice\, France. More than 1500 seed industry professionals are expected to gather to discuss the global issues facing the seed industry.
URL:https://www.wfo-oma.org/calendar-news/isf-world-seed-congress-2019/
LOCATION:NICE ACROPOLIS\, 1 Esplanade John Fitzgerald Kennedy\,\, Nice\, France
ATTACH;FMTTYPE=image/jpeg:https://www.wfo-oma.org/wp-content/uploads/2019/05/ISF-1.jpg
END:VEVENT
BEGIN:VEVENT
DTSTART;VALUE=DATE:20190611
DTEND;VALUE=DATE:20190613
DTSTAMP:20231221T151711
CREATED:20190514T135124Z
LAST-MODIFIED:20190515T124731Z
UID:3065-1560211200-1560383999@www.wfo-oma.org
SUMMARY:IGC Grains Conference 2019​
DESCRIPTION:The IGC Grains Conference is one of the world’s most established industry events\, a forum for sharing knowledge and deepening business relationships. Attracting policymakers and operators from across the grains and oilseeds value chain\, the two-day conference offers unrivalled opportunities to gain market insight and forge new connections. Through a range of interactive sessions and workshops\, the conference seeks to address sustainability and trade financing challenges\, as well as broader uncertainties about the global economy and trade policies. \nThe twenty-eighth IGC Grains Conference will be held in London on 11 and 12 June 2019.
URL:https://www.wfo-oma.org/calendar-news/igc-grains-conference-2019%e2%80%8b/
LOCATION:IGC Grains Conference\, 28 Great Russell St\,\, London\, United Kingdom
ATTACH;FMTTYPE=image/jpeg:https://www.wfo-oma.org/wp-content/uploads/2019/05/IGC.jpg
END:VEVENT
BEGIN:VEVENT
DTSTART;VALUE=DATE:20190615
DTEND;VALUE=DATE:20190617
DTSTAMP:20231221T151711
CREATED:20190514T135150Z
LAST-MODIFIED:20190515T125015Z
UID:3067-1560556800-1560729599@www.wfo-oma.org
SUMMARY:GACSA Annual Forum 2019
DESCRIPTION:The third Global Alliance for Climate Smart Agriculture Annual Forum will take on the weekend of 15-16 June 2019 at the Hilton Hotel in Bonn\, Germany. \nThis year’s Forum will focus on how GACSA members are supporting the scaling up of CSA activities in the implementation of the Koronivia Joint Work on Agriculture\, Gender Action Plan\, and Nationally Determined Indicators. \nOrganized by Global Alliance for Climate-Smart Agriculture (GACSA)
URL:https://www.wfo-oma.org/calendar-news/gacsa-annual-forum-2019/
LOCATION:Hilton Hotel\, Berliner Freiheit 2\, Bonn\, Germany
ATTACH;FMTTYPE=image/jpeg:https://www.wfo-oma.org/wp-content/uploads/2019/05/GACSA-1.jpg
END:VEVENT
BEGIN:VEVENT
DTSTART;VALUE=DATE:20190617
DTEND;VALUE=DATE:20190628
DTSTAMP:20231221T151711
CREATED:20190514T135213Z
LAST-MODIFIED:20190515T125315Z
UID:3069-1560729600-1561679999@www.wfo-oma.org
SUMMARY:Bonn Climate Change Conference (SB-50)
DESCRIPTION:The 50th sessions of the UNFCCC Subsidiary Body for Implementation (SBI) and Subsidiary Body for Scientific and Technological Advice (SBSTA) will convene in Bonn\, Germany\, from 17-27 June 2019. The Bonn Climate Change conference will address numerous implementation issues under the Convention\, the Kyoto Protocol and the Paris Agreement. \nAmong other issues\, SBSTA 50 will address matters relating to science and review\, including the Intergovernmental Panel on Climate Change (IPCC) Special Report on Global Warming of 1.5°C (SR15). The 11th meeting of the Research Dialogue (RD 11) and an associated poster session will take place in conjunction with SBSTA 50. \nSBI 50 will include a multilateral assessment working group session under the international assessment and review (IAR) process\, and a facilitative sharing of views under the international consultation and analysis (ICA) process.
URL:https://www.wfo-oma.org/calendar-news/bonn-climate-change-conference-sb-50/
LOCATION:World Conference Center Bonn\, Nordrhein-Westfalen\, Bonn\, Germany
ATTACH;FMTTYPE=image/jpeg:https://www.wfo-oma.org/wp-content/uploads/2019/03/UNFCC.jpg
END:VEVENT
BEGIN:VEVENT
DTSTART;VALUE=DATE:20190621
DTEND;VALUE=DATE:20190622
DTSTAMP:20231221T151711
CREATED:20190520T134542Z
LAST-MODIFIED:20190620T134556Z
UID:3237-1561075200-1561161599@www.wfo-oma.org
SUMMARY:3rd AU-EU Agriculture Ministerial Conference
DESCRIPTION:The 3rd African Union – European Union Agriculture Ministerial Conference will take place in the FAO premises in Rome and it will be co-hosted by the Africa Union Commission and the European Commission. AU Commissioner for Agriculture and Rural Economy\, Ms Josefa Sacko and the EU Commissioner for Agriculture and Rural Development\, Mr Phil Hogan are all expected to attend.\n\nBuilding on the results of the successful previous conference in 2017\, around 450 invited high-level representatives and stakeholders from Africa and Europe will debate on how to further unlock the potential for a positive rural transformation and an inclusive and sustainable agriculture and agri-food sector in Africa.\n\nIn the spirit of the ‘Africa-Europe Alliance for Sustainable Investment and Jobs’ called for by Commission President Jean-Claude Juncker in September 2018\, knowledge transfer\, sharing of good practices\, reinforcing strategic policy cooperation and dialogue between the European Union (EU) and the African Union (AU)\, should contribute to African job creation and to the development of its agricultural sector.
URL:https://www.wfo-oma.org/calendar-news/3rd-au-eu-agriculture-ministerial-conference/
LOCATION:FAO\, Viale delle Terme di Caracalla\, Roma\, Italy
ATTACH;FMTTYPE=image/jpeg:https://www.wfo-oma.org/wp-content/uploads/2019/06/au-eu-conference.jpg
END:VEVENT
END:VCALENDAR