BEGIN:VCALENDAR
VERSION:2.0
PRODID:-//WFO-OMA - ECPv6.2.9//NONSGML v1.0//EN
CALSCALE:GREGORIAN
METHOD:PUBLISH
X-ORIGINAL-URL:https://www.wfo-oma.org/fr/
X-WR-CALDESC:évènements pour WFO-OMA
REFRESH-INTERVAL;VALUE=DURATION:PT1H
X-Robots-Tag:noindex
X-PUBLISHED-TTL:PT1H
BEGIN:VTIMEZONE
TZID:America/New_York
BEGIN:DAYLIGHT
TZOFFSETFROM:-0500
TZOFFSETTO:-0400
TZNAME:EDT
DTSTART:20190310T070000
END:DAYLIGHT
BEGIN:STANDARD
TZOFFSETFROM:-0400
TZOFFSETTO:-0500
TZNAME:EST
DTSTART:20191103T060000
END:STANDARD
END:VTIMEZONE
BEGIN:VEVENT
DTSTART;VALUE=DATE:20190917
DTEND;VALUE=DATE:20191001
DTSTAMP:20231221T151615
CREATED:20190830T155508Z
LAST-MODIFIED:20190830T155508Z
UID:4290-1568678400-1569887999@www.wfo-oma.org
SUMMARY:74th Session of the UN General Assembly (UNGA 74)
DESCRIPTION:From 17 – 30 September\, leaders from around the world will convene at the 74th United Nations General Assembly\, in New York. \nThis annual gathering features hundreds of events where world leaders will gather to discuss some of the biggest challenges facing the world today – from climate change to education to human rights – and drive progress toward achieving the Sustainable Development Goals for a brighter and more equitable global future.
URL:https://www.wfo-oma.org/fr/calendar-news/74th-session-of-the-un-general-assembly-unga-74/
LOCATION:UN Headquarters\, New York\, NY 10017\, USA\, New York\, NY\, 10017\, United States
ATTACH;FMTTYPE=image/jpeg:https://www.wfo-oma.org/wp-content/uploads/2019/08/file-1.jpeg
END:VEVENT
BEGIN:VEVENT
DTSTART;VALUE=DATE:20190924
DTEND;VALUE=DATE:20190926
DTSTAMP:20231221T151615
CREATED:20190830T161511Z
LAST-MODIFIED:20190830T161559Z
UID:4297-1569283200-1569455999@www.wfo-oma.org
SUMMARY:SDG Summit 2019
DESCRIPTION:The UN High-level Political Forum on Sustainable Development (HLPF) will convene at the level of heads of state and government under the auspices of the UN General Assembly (UNGA)\, from 24-25 September 2019. Such meetings take place every four years\, and the meeting in 2019 – also known as the SDG Summit – is the first UN summit on the SDGs since the adoption of the 2030 Agenda in September 2015. \nThe United Nations SDG Summit will be chaired by the President of the General Assembly and will result in a concise negotiated political declaration. \n  \n 
URL:https://www.wfo-oma.org/fr/calendar-news/sdg-summit-2019/
LOCATION:UN Headquarters\, New York\, NY\, 10017\, United States
ATTACH;FMTTYPE=image/jpeg:https://www.wfo-oma.org/wp-content/uploads/2019/06/HLPF-2019.jpg
END:VEVENT
END:VCALENDAR