BEGIN:VCALENDAR
VERSION:2.0
PRODID:-//WFO-OMA - ECPv6.2.9//NONSGML v1.0//EN
CALSCALE:GREGORIAN
METHOD:PUBLISH
X-WR-CALNAME:WFO-OMA
X-ORIGINAL-URL:https://www.wfo-oma.org/fr/
X-WR-CALDESC:évènements pour WFO-OMA
REFRESH-INTERVAL;VALUE=DURATION:PT1H
X-Robots-Tag:noindex
X-PUBLISHED-TTL:PT1H
BEGIN:VTIMEZONE
TZID:Europe/Berlin
BEGIN:DAYLIGHT
TZOFFSETFROM:+0100
TZOFFSETTO:+0200
TZNAME:CEST
DTSTART:20200329T010000
END:DAYLIGHT
BEGIN:STANDARD
TZOFFSETFROM:+0200
TZOFFSETTO:+0100
TZNAME:CET
DTSTART:20201025T010000
END:STANDARD
END:VTIMEZONE
BEGIN:VEVENT
DTSTART;VALUE=DATE:20200116
DTEND;VALUE=DATE:20200119
DTSTAMP:20231221T144413
CREATED:20191104T161132Z
LAST-MODIFIED:20200120T162126Z
UID:4807-1579132800-1579391999@www.wfo-oma.org
SUMMARY:12th Global Forum for Food and Agriculture (GFFA)
DESCRIPTION:The 12th Global Forum for Food and Agriculture will be held from 16 to 18 January 2020! \nThe GFFA 2020 will examine the subject of trade from every angle. The event is to raise public awareness of the role played by trade and an integrated trading system for global food security. We aim to address the following issues: \n\nWhat role does trade play in respect of food security?\nHow can we create fair rules for agricultural trade?\nHow can we make global supply chains inclusive\, sustainable and safe?\nHow can we design trade to promote agricultural development?
URL:https://www.wfo-oma.org/fr/calendar-news/12th-global-forum-for-food-and-agriculture-gffa/
LOCATION:CityCube Berlin\, Messedamm 26 Entrance Messedamm\, Berlin\, 14055\, Germany
ATTACH;FMTTYPE=image/jpeg:https://www.wfo-oma.org/wp-content/uploads/2020/01/was-ist-gffa.jpg
END:VEVENT
END:VCALENDAR