BEGIN:VCALENDAR
VERSION:2.0
PRODID:-//WFO-OMA - ECPv6.2.9//NONSGML v1.0//EN
CALSCALE:GREGORIAN
METHOD:PUBLISH
X-WR-CALNAME:WFO-OMA
X-ORIGINAL-URL:https://www.wfo-oma.org/fr/
X-WR-CALDESC:évènements pour WFO-OMA
REFRESH-INTERVAL;VALUE=DURATION:PT1H
X-Robots-Tag:noindex
X-PUBLISHED-TTL:PT1H
BEGIN:VTIMEZONE
TZID:Europe/Rome
BEGIN:DAYLIGHT
TZOFFSETFROM:+0100
TZOFFSETTO:+0200
TZNAME:CEST
DTSTART:20200329T010000
END:DAYLIGHT
BEGIN:STANDARD
TZOFFSETFROM:+0200
TZOFFSETTO:+0100
TZNAME:CET
DTSTART:20201025T010000
END:STANDARD
END:VTIMEZONE
BEGIN:VEVENT
DTSTART;VALUE=DATE:20200121
DTEND;VALUE=DATE:20200125
DTSTAMP:20231221T144331
CREATED:20191104T162029Z
LAST-MODIFIED:20200121T083633Z
UID:4814-1579564800-1579910399@www.wfo-oma.org
SUMMARY:World Economic Forum Annual Meeting 2020
DESCRIPTION:Under the theme “Stakeholders for a Cohesive and Sustainable World”\, around 3\,000 participants\, including the world’s top academics\, politicians\, business\, and civil society leaders gather in Davos-Klosters\, Switzerland\, for the 50th anniversary of the World Economic Forum (WEF) to engage in addressing the most pressing issues on the global agenda. \n  \n  \n 
URL:https://www.wfo-oma.org/fr/calendar-news/world-economic-forum-annual-meeting-2020/
LOCATION:Davos-Klosters\, Switzerland
ATTACH;FMTTYPE=image/jpeg:https://www.wfo-oma.org/wp-content/uploads/2020/01/Davos-2020-800x450-1.jpg
END:VEVENT
END:VCALENDAR