BEGIN:VCALENDAR
VERSION:2.0
PRODID:-//WFO-OMA - ECPv6.2.9//NONSGML v1.0//EN
CALSCALE:GREGORIAN
METHOD:PUBLISH
X-ORIGINAL-URL:https://www.wfo-oma.org/fr/
X-WR-CALDESC:évènements pour WFO-OMA
REFRESH-INTERVAL;VALUE=DURATION:PT1H
X-Robots-Tag:noindex
X-PUBLISHED-TTL:PT1H
BEGIN:VTIMEZONE
TZID:Europe/Rome
BEGIN:DAYLIGHT
TZOFFSETFROM:+0100
TZOFFSETTO:+0200
TZNAME:CEST
DTSTART:20200329T010000
END:DAYLIGHT
BEGIN:STANDARD
TZOFFSETFROM:+0200
TZOFFSETTO:+0100
TZNAME:CET
DTSTART:20201025T010000
END:STANDARD
END:VTIMEZONE
BEGIN:VEVENT
DTSTART;VALUE=DATE:20200206
DTEND;VALUE=DATE:20200212
DTSTAMP:20231221T143513
CREATED:20200130T184717Z
LAST-MODIFIED:20200130T185029Z
UID:4960-1580947200-1581465599@www.wfo-oma.org
SUMMARY:7th Global Meeting of the Farmers’ Forum
DESCRIPTION:Established in 2005\, The Farmers’ Forum (FAFO) is an ongoing\, bottom-up process of consultation and dialogue between organizations of small-scale farmers and rural producers from all over the world\, IFAD and governments\, focused on agricultural and rural development and poverty reduction. \nThe meeting will take place in conjunction with the 43rd session of the IFAD Governing Council. \nThis edition of the global FAFO is also taking place in the first year of the United Nations Decade of Family Farming (2019-2028)\, which puts family farming at the centre of the international agenda. The Decade constitutes a unique opportunity to work on multi-dimensional issues that are of concern to family farmers\, positioning them as key agents of change in achieving the SDGs.
URL:https://www.wfo-oma.org/fr/calendar-news/7th-global-meeting-of-the-farmers-forum/
LOCATION:IFAD Headquarters\, Via Paolo di Dono\, 44\, Rome\, 00142\, Italy
ATTACH;FMTTYPE=image/jpeg:https://www.wfo-oma.org/wp-content/uploads/2020/01/IFAD_FAFO2020.jpg
END:VEVENT
END:VCALENDAR