BEGIN:VCALENDAR
VERSION:2.0
PRODID:-//WFO-OMA - ECPv6.2.9//NONSGML v1.0//EN
CALSCALE:GREGORIAN
METHOD:PUBLISH
X-ORIGINAL-URL:https://www.wfo-oma.org/fr/
X-WR-CALDESC:évènements pour WFO-OMA
REFRESH-INTERVAL;VALUE=DURATION:PT1H
X-Robots-Tag:noindex
X-PUBLISHED-TTL:PT1H
BEGIN:VTIMEZONE
TZID:Europe/Rome
BEGIN:DAYLIGHT
TZOFFSETFROM:+0100
TZOFFSETTO:+0200
TZNAME:CEST
DTSTART:20200329T010000
END:DAYLIGHT
BEGIN:STANDARD
TZOFFSETFROM:+0200
TZOFFSETTO:+0100
TZNAME:CET
DTSTART:20201025T010000
END:STANDARD
END:VTIMEZONE
BEGIN:VEVENT
DTSTART;TZID=Europe/Rome:20200703T130000
DTEND;TZID=Europe/Rome:20200703T143000
DTSTAMP:20231221T135021
CREATED:20200701T084016Z
LAST-MODIFIED:20200703T071924Z
UID:8733-1593781200-1593786600@www.wfo-oma.org
SUMMARY:COVID-19 : Résister maintenant pour mieux reconstruire
DESCRIPTION:Un événement virtuel animé par les agriculteurs\nLe 3 juillet prochain\, des représentants des agriculteurs du monde entier se réuniront pour partager leurs réflexions\, ainsi que leurs expériences et leçons apprises pendant la pandémie. \nCovid-19 exerce une pression sans précédent sur l’agriculture et les agriculteurs du monde entier. Pourtant\, les organisations d’agriculteurs du monde entier se sont tenues en force au milieu de cette tempête\, assurant qu’aucun agriculteur n’est laissé en arrière. \nOrganisé par l’Organisation mondiale des agriculteurs (OMA) avec Andreas Hermes Akademie (AHA) (AHA) et AgrarKontakte International (AKI) (AKI)\, le webinaire « COVID-19: Résister maintenant pour reconstruire mieux» sera une formidable occasion de mettre en lumière l’adaptabilité et la capacité des agriculteurs à innover\, à s’organiser\, partager et se soutenir mutuellement au moment du coronavirus. L’événement sera un excellent endroit pour discuter de la « nouvelle normale » les agriculteurs veulent. \nL’événement sera disponible en Anglais – Français – Espagnol – Russe \n  \n\nINSCRIVEZ-VOUS ICI  \nProgramme\n3 Juillet 13h – 14h30 CEST \nIntroduction \nAgriculture de transition – Échange de pair à pair à l’époque de COVID-19 : l’expérience des organisations nationales d’agriculteurs pour aider leurs membres à faire face aux chocs dans les systèmes alimentaires \n\nJoachim Rukwied\, President\, German Farmers’ Organisation (DBV)\nWerner Schwarz\, Vice President\, German Farmers‘ Association (DBV) \nVladimir Plotnikov\, President\, Russian Association of rural and farm enterprises and agricultural cooperatives (AKKOR)\nBetty Chinyamunyamu\, CEO\, National Smallholder Farmers’ Association of Malawi (NASFAM)\nOswald TUYISENGE\, Executive Secretary\, Rwandan Farmers’ Union (INGABO)\nPaul Zakariya\, Executive Director\, Zimbabwe Farmers’ Union (ZFU)\n\nMieux reconstruire après la crise COVID-19 : la perspective des organisations agricoles régionales et mondiales \n\nAlberto Broch\, President\, Confederación de Organizaciones de Productores Familiares del Mercosur Ampliado (COPROFAM)\nElizabeth Nsimadala\, President\, Pan African Farmers Organisation (PAFO)\nLorenzo Espacio\, Coordinator for UN Decade of Family Farming and Young Farmers’ Agenda\, Asian Farmers Association (AFA)\nTheo De Jager\, President\, World Farmers’ Organisation (WFO)\n\nQuestions-Réponses \nConclusions \nL’événement sera modéré par Arianna Giuliodori\, Secrétaire générale de l’Organisation mondiale des agriculteurs
URL:https://www.wfo-oma.org/fr/calendar-news/covid-19-resister-maintenant-pour-mieux-reconstruire/
ATTACH;FMTTYPE=image/png:https://www.wfo-oma.org/wp-content/uploads/2020/06/3-July-Webinar_rev.png
ORGANIZER;CN="World Farmers' Organisation (WFO)":MAILTO:info@wfo-oma.org
END:VEVENT
END:VCALENDAR