BEGIN:VCALENDAR
VERSION:2.0
PRODID:-//WFO-OMA - ECPv6.2.9//NONSGML v1.0//EN
CALSCALE:GREGORIAN
METHOD:PUBLISH
X-ORIGINAL-URL:https://www.wfo-oma.org/fr/
X-WR-CALDESC:évènements pour WFO-OMA
REFRESH-INTERVAL;VALUE=DURATION:PT1H
X-Robots-Tag:noindex
X-PUBLISHED-TTL:PT1H
BEGIN:VTIMEZONE
TZID:Europe/Rome
BEGIN:DAYLIGHT
TZOFFSETFROM:+0100
TZOFFSETTO:+0200
TZNAME:CEST
DTSTART:20200329T010000
END:DAYLIGHT
BEGIN:STANDARD
TZOFFSETFROM:+0200
TZOFFSETTO:+0100
TZNAME:CET
DTSTART:20201025T010000
END:STANDARD
END:VTIMEZONE
BEGIN:VEVENT
DTSTART;VALUE=DATE:20201209
DTEND;VALUE=DATE:20201211
DTSTAMP:20231221T130049
CREATED:20201207T085703Z
LAST-MODIFIED:20201207T133124Z
UID:10065-1607472000-1607644799@www.wfo-oma.org
SUMMARY:STEP into a Better World: A call to action
DESCRIPTION:On December 9 and 10\, 2020\, the Planetary Emergency Partnership will be hosting the conference “STEP into a better world: a call to action”. \nThe World Farmers’ Organisation (WFO) has been involved in the Planetary Emergency Partnership\, which aims at promoting the participation of several stakeholders in declaring a planetary emergency and drawing up an action plan to increase resilience. Covid19 has further exacerbated the existing state of emergency\, and 10 commitments have been identified to resolve this global crisis\, more information on the Emergency Planetary Plan is available on the dedicated webpage: https://clubofrome.org/wp-content/uploads/2020/09/COR-PEP_Sep2020_A4_16pp-v2.pdf. \nThe event\, therefore\, will be a useful opportunity to outline concrete actions to be implemented to achieve the goals indicated\, also in view of the UN Food Systems Summit taking place next year. \nWFO Key Events\nWithin the framework of the STEP event\, WFO will be engaged in the following sessions: \nDesign a farmers-oriented pathway for resilient food systems\n10 December 2020\, 11 AM Rome time \nHosted by WFO\,  this one-hour session aims at highlighting how important it is to rely on the agricultural sector and farmers as drivers of change\, engage them in multi-stakeholder debates and partnerships to ensure that the sustainability and resilience of food systems are built through farmers-oriented and cross-sectoral approaches. \nStrengthen collaboration for local food systems resilience\n10 December 2020\, 2 PM Rome time \nWFO\, as member of the Stakeholder Engagement Mechanism (SEM) of the United Nations Office of Disaster Risk Reduction (UNDRR)\, is supporting the SEM in organising a one-hour session titled Strengthen collaboration for local food systems resilience. The overall idea of the session is to focus on how important it is to build resilience and shift towards more sustainable and resilient food systems especially now that Covid19 exacerbated existing economic and social inequalities\, climate change-induced disasters are increasing and so are food insecurity and malnutrition levels. Within this framework\, we would like to highlight how important it is to rely on local solutions\, learn from local communities and build resilience through an all-of -society approach. \nTo attend the sessions\, you need to register on the Hopin Platform at the following link\, using the discounted Education/Non Profit/Ticket option: https://hopin.com/events/actnow-step-into-a-better-world
URL:https://www.wfo-oma.org/fr/calendar-news/step-into-a-better-world-a-call-to-action/
ATTACH;FMTTYPE=image/png:https://www.wfo-oma.org/wp-content/uploads/2020/12/STEP-CONFERENCE.png
END:VEVENT
END:VCALENDAR