BEGIN:VCALENDAR
VERSION:2.0
PRODID:-//WFO-OMA - ECPv6.2.9//NONSGML v1.0//EN
CALSCALE:GREGORIAN
METHOD:PUBLISH
X-WR-CALNAME:WFO-OMA
X-ORIGINAL-URL:https://www.wfo-oma.org/fr/
X-WR-CALDESC:évènements pour WFO-OMA
REFRESH-INTERVAL;VALUE=DURATION:PT1H
X-Robots-Tag:noindex
X-PUBLISHED-TTL:PT1H
BEGIN:VTIMEZONE
TZID:Europe/Rome
BEGIN:DAYLIGHT
TZOFFSETFROM:+0100
TZOFFSETTO:+0200
TZNAME:CEST
DTSTART:20200329T010000
END:DAYLIGHT
BEGIN:STANDARD
TZOFFSETFROM:+0200
TZOFFSETTO:+0100
TZNAME:CET
DTSTART:20201025T010000
END:STANDARD
END:VTIMEZONE
BEGIN:VEVENT
DTSTART;TZID=Europe/Rome:20200930T160000
DTEND;TZID=Europe/Rome:20200930T183000
DTSTAMP:20231221T132110
CREATED:20200925T133051Z
LAST-MODIFIED:20200928T134303Z
UID:9552-1601481600-1601490600@www.wfo-oma.org
SUMMARY:THE CLIMAKERS Regional Workshop – Latin America
DESCRIPTION:Next September 30th\, 2020\, the Latin America Climakers community\, including farmers and other stakeholders\, will convene digitally for a special regional workshop “Farmers’ Solutions to Climate Crisis: Latin American Stories in the era of COVID19″. \nJointly organised by the World Farmers’ Organisation (WFO) and the International Cooperation and Development Fund of Taiwan (Taiwan ICDF)\, this one-day digital event aims at collecting\, discussing and validating farmers’ best practices and solutions to climate change from Latin America\, in times of COVID-19 pandemic. The event will start at 4 PM CEST. \nFor those interested to attend\, registrations are open at https://bit.ly/3kr72eP.
URL:https://www.wfo-oma.org/fr/calendar-news/the-climakers-regional-workshop-latin-america/
ATTACH;FMTTYPE=image/png:https://www.wfo-oma.org/wp-content/uploads/2020/09/The-Climakers-Latin-America-Digital-Workshop-800x450px.png
ORGANIZER;CN="World Farmers' Organisation (WFO)":MAILTO:info@wfo-oma.org
END:VEVENT
END:VCALENDAR